BEGIN:VCALENDAR
PRODID:-//Mozilla.org/NONSGML Mozilla Calendar V1.1//EN
VERSION:2.0
CALSCALE:GREGORIAN
BEGIN:VEVENT
DTSTAMP:20260420T232925Z
DTSTART:20260421T200000
DTEND:20260421T203000
SUMMARY:2022 HYUNDAI HB20S 
LOCATION:http://www.copart.com.br:80
DESCRIPTION:Please join us for the following auction:\n\n2022 HYUNDAI HB2
 0S \nwww.copart.com.br\n\n\n\nContact us at member.services@copart.com o
 r (972) 391-5400 if you have any questions leading up to the auction.\n\
 n\n-Your Copart Team
UID:20260420T232925Z-uidGen@lvpbaw212.corp.copart.com
END:VEVENT
END:VCALENDAR
